Package: ENCODExplorerData Version: 0.99.5 Command: /home/biocbuild/bbs-3.20-bioc/R/bin/R CMD check --install=check:ENCODExplorerData.install-out.txt --library=/home/biocbuild/bbs-3.20-bioc/R/site-library --timings ENCODExplorerData_0.99.5.tar.gz StartedAt: 2025-01-29 06:34:06 -0500 (Wed, 29 Jan 2025) EndedAt: 2025-01-29 06:36:42 -0500 (Wed, 29 Jan 2025) EllapsedTime: 156.0 seconds RetCode: 0 Status: OK CheckDir: ENCODExplorerData.Rcheck Warnings: 0