Package: AHMeSHDbs Version: 1.8.0 Command: /home/biocbuild/bbs-3.20-bioc/R/bin/R CMD check --install=check:AHMeSHDbs.install-out.txt --library=/home/biocbuild/bbs-3.20-bioc/R/site-library --timings AHMeSHDbs_1.8.0.tar.gz StartedAt: 2025-04-02 06:34:15 -0400 (Wed, 02 Apr 2025) EndedAt: 2025-04-02 06:34:40 -0400 (Wed, 02 Apr 2025) EllapsedTime: 24.5 seconds RetCode: 0 Status: OK CheckDir: AHMeSHDbs.Rcheck Warnings: 0