Package: AHLRBaseDbs Version: 1.8.0 Command: /home/biocbuild/bbs-3.20-bioc/R/bin/R CMD check --install=check:AHLRBaseDbs.install-out.txt --library=/home/biocbuild/bbs-3.20-bioc/R/site-library --timings AHLRBaseDbs_1.8.0.tar.gz StartedAt: 2025-02-05 06:33:42 -0500 (Wed, 05 Feb 2025) EndedAt: 2025-02-05 06:34:12 -0500 (Wed, 05 Feb 2025) EllapsedTime: 29.3 seconds RetCode: 0 Status: OK CheckDir: AHLRBaseDbs.Rcheck Warnings: 0