Package: AHEnsDbs Version: 1.6.0 Command: /home/biocbuild/bbs-3.20-bioc/R/bin/R CMD INSTALL AHEnsDbs StartedAt: 2025-04-02 06:30:24 -0400 (Wed, 02 Apr 2025) EndedAt: 2025-04-02 06:30:49 -0400 (Wed, 02 Apr 2025) EllapsedTime: 24.5 seconds RetCode: 0 Status: OK