Package: AHEnsDbs Version: 1.6.0 Command: /home/biocbuild/bbs-3.20-bioc/R/bin/R CMD check --install=check:AHEnsDbs.install-out.txt --library=/home/biocbuild/bbs-3.20-bioc/R/site-library --timings AHEnsDbs_1.6.0.tar.gz StartedAt: 2025-02-05 06:33:42 -0500 (Wed, 05 Feb 2025) EndedAt: 2025-02-05 06:36:00 -0500 (Wed, 05 Feb 2025) EllapsedTime: 137.6 seconds RetCode: 0 Status: OK CheckDir: AHEnsDbs.Rcheck Warnings: 0