Package: AHEnsDbs Version: 1.6.0 Command: /home/biocbuild/bbs-3.20-bioc/R/bin/R CMD build --keep-empty-dirs --no-resave-data AHEnsDbs StartedAt: 2025-01-29 06:31:28 -0500 (Wed, 29 Jan 2025) EndedAt: 2025-01-29 06:32:38 -0500 (Wed, 29 Jan 2025) EllapsedTime: 69.5 seconds RetCode: 0 Status: OK PackageFile: AHEnsDbs_1.6.0.tar.gz PackageFileSize: 502.2 KiB