Package: csawBook Version: 1.14.0 Command: /home/biocbuild/bbs-3.20-bioc/R/bin/R CMD build --keep-empty-dirs --no-resave-data csawBook StartedAt: 2025-01-31 06:16:59 -0500 (Fri, 31 Jan 2025) EndedAt: 2025-01-31 07:43:15 -0500 (Fri, 31 Jan 2025) EllapsedTime: 5175.9 seconds RetCode: 0 Status: OK PackageFile: csawBook_1.14.0.tar.gz PackageFileSize: 2.868 MiB