Package: SingleRBook Version: 1.16.0 Command: /home/biocbuild/bbs-3.20-bioc/R/bin/R CMD INSTALL SingleRBook StartedAt: 2025-04-02 06:15:08 -0400 (Wed, 02 Apr 2025) EndedAt: 2025-04-02 06:15:39 -0400 (Wed, 02 Apr 2025) EllapsedTime: 32.0 seconds RetCode: 0 Status: OK