Package: OSCA Version: 1.16.0 Command: /home/biocbuild/bbs-3.20-bioc/R/bin/R CMD INSTALL OSCA StartedAt: 2025-01-29 06:15:08 -0500 (Wed, 29 Jan 2025) EndedAt: 2025-01-29 06:15:10 -0500 (Wed, 29 Jan 2025) EllapsedTime: 2.4 seconds RetCode: 0 Status: OK