Package: OSCA.workflows Version: 1.14.0 Command: /home/biocbuild/bbs-3.20-bioc/R/bin/R CMD INSTALL OSCA.workflows StartedAt: 2025-04-02 06:15:08 -0400 (Wed, 02 Apr 2025) EndedAt: 2025-04-02 06:15:44 -0400 (Wed, 02 Apr 2025) EllapsedTime: 36.8 seconds RetCode: 0 Status: OK