Package: OSCA.workflows Version: 1.14.0 Command: /home/biocbuild/bbs-3.20-bioc/R/bin/R CMD build --keep-empty-dirs --no-resave-data OSCA.workflows StartedAt: 2025-04-02 06:17:17 -0400 (Wed, 02 Apr 2025) EndedAt: 2025-04-02 07:29:01 -0400 (Wed, 02 Apr 2025) EllapsedTime: 4304.0 seconds RetCode: 0 Status: OK PackageFile: OSCA.workflows_1.14.0.tar.gz PackageFileSize: 17.24 MiB