Package: OSCA.multisample Version: 1.14.3 Command: rm -rf OSCA.multisample.book && mkdir OSCA.multisample.book && /home/biocbuild/BBS/utils/deploy_book.py OSCA.multisample_1.14.3.tar.gz OSCA.multisample.book StartedAt: 2025-04-02 08:34:48 -0400 (Wed, 02 Apr 2025) EndedAt: 2025-04-02 08:34:51 -0400 (Wed, 02 Apr 2025) EllapsedTime: 2.8 seconds RetCode: 0 Status: OK DeployDestDir: OSCA.multisample.book Warnings: 0