Package: OSCA.multisample Version: 1.14.3 Command: /home/biocbuild/bbs-3.20-bioc/R/bin/R CMD build --keep-empty-dirs --no-resave-data OSCA.multisample StartedAt: 2025-04-02 06:17:03 -0400 (Wed, 02 Apr 2025) EndedAt: 2025-04-02 07:55:40 -0400 (Wed, 02 Apr 2025) EllapsedTime: 5917.2 seconds RetCode: 0 Status: OK PackageFile: OSCA.multisample_1.14.3.tar.gz PackageFileSize: 11.2 MiB