Package: OSCA.intro Version: 1.14.2 Command: /home/biocbuild/bbs-3.20-bioc/R/bin/R CMD build --keep-empty-dirs --no-resave-data OSCA.intro StartedAt: 2025-02-12 06:16:59 -0500 (Wed, 12 Feb 2025) EndedAt: 2025-02-12 06:25:15 -0500 (Wed, 12 Feb 2025) EllapsedTime: 496.7 seconds RetCode: 0 Status: OK PackageFile: OSCA.intro_1.14.2.tar.gz PackageFileSize: 1.331 MiB