Package: OSCA.basic Version: 1.14.1 Command: rm -rf OSCA.basic.book && mkdir OSCA.basic.book && /home/biocbuild/BBS/utils/deploy_book.py OSCA.basic_1.14.1.tar.gz OSCA.basic.book StartedAt: 2025-01-29 08:34:48 -0500 (Wed, 29 Jan 2025) EndedAt: 2025-01-29 08:34:50 -0500 (Wed, 29 Jan 2025) EllapsedTime: 2.2 seconds RetCode: 0 Status: OK DeployDestDir: OSCA.basic.book Warnings: 0