Package: zlibbioc Version: 1.53.0 Command: /home/rapidbuild/bbs-3.21-bioc-rapid/R/bin/R CMD INSTALL zlibbioc StartedAt: 2025-01-31 06:04:38 -0500 (Fri, 31 Jan 2025) EndedAt: 2025-01-31 06:04:41 -0500 (Fri, 31 Jan 2025) EllapsedTime: 3.0 seconds RetCode: 0 Status: OK