Package: zellkonverter Version: 1.17.0 Command: /home/rapidbuild/bbs-3.21-bioc-rapid/R/bin/R CMD INSTALL zellkonverter StartedAt: 2025-01-31 06:20:22 -0500 (Fri, 31 Jan 2025) EndedAt: 2025-01-31 06:20:40 -0500 (Fri, 31 Jan 2025) EllapsedTime: 18.2 seconds RetCode: 0 Status: OK