Package: zellkonverter Version: 1.17.0 Command: /home/rapidbuild/bbs-3.21-bioc-rapid/R/bin/R CMD build --keep-empty-dirs --no-resave-data zellkonverter StartedAt: 2025-01-31 07:48:55 -0500 (Fri, 31 Jan 2025) EndedAt: 2025-01-31 07:49:47 -0500 (Fri, 31 Jan 2025) EllapsedTime: 52.3 seconds RetCode: 0 Status: OK PackageFile: zellkonverter_1.17.0.tar.gz PackageFileSize: 1.127 MiB