Package: xcms Version: 4.5.2 Command: /home/rapidbuild/bbs-3.21-bioc-rapid/R/bin/R CMD check --install=check:xcms.install-out.txt --library=/home/rapidbuild/bbs-3.21-bioc-rapid/R/site-library --timings xcms_4.5.2.tar.gz StartedAt: 2025-01-31 09:39:28 -0500 (Fri, 31 Jan 2025) EndedAt: 2025-01-31 10:00:52 -0500 (Fri, 31 Jan 2025) EllapsedTime: 1283.4 seconds RetCode: 0 Status: OK CheckDir: xcms.Rcheck Warnings: 0