Package: xcms Version: 4.5.2 Command: /home/rapidbuild/bbs-3.21-bioc-rapid/R/bin/R CMD build --keep-empty-dirs --no-resave-data xcms StartedAt: 2025-01-31 07:48:49 -0500 (Fri, 31 Jan 2025) EndedAt: 2025-01-31 07:52:51 -0500 (Fri, 31 Jan 2025) EllapsedTime: 242.4 seconds RetCode: 0 Status: OK PackageFile: xcms_4.5.2.tar.gz PackageFileSize: 9.434 MiB