Package: widgetTools Version: 1.85.0 Command: /home/rapidbuild/bbs-3.21-bioc-rapid/R/bin/R CMD INSTALL widgetTools StartedAt: 2025-01-31 06:09:12 -0500 (Fri, 31 Jan 2025) EndedAt: 2025-01-31 06:09:16 -0500 (Fri, 31 Jan 2025) EllapsedTime: 4.0 seconds RetCode: 0 Status: OK