Package: widgetTools Version: 1.85.0 Command: /home/rapidbuild/bbs-3.21-bioc-rapid/R/bin/R CMD check --install=check:widgetTools.install-out.txt --library=/home/rapidbuild/bbs-3.21-bioc-rapid/R/site-library --timings widgetTools_1.85.0.tar.gz StartedAt: 2025-01-31 09:38:58 -0500 (Fri, 31 Jan 2025) EndedAt: 2025-01-31 09:39:17 -0500 (Fri, 31 Jan 2025) EllapsedTime: 19.0 seconds RetCode: 0 Status: OK CheckDir: widgetTools.Rcheck Warnings: 0