Package: widgetTools Version: 1.85.0 Command: /home/rapidbuild/bbs-3.21-bioc-rapid/R/bin/R CMD build --keep-empty-dirs --no-resave-data widgetTools StartedAt: 2025-01-31 07:48:33 -0500 (Fri, 31 Jan 2025) EndedAt: 2025-01-31 07:48:40 -0500 (Fri, 31 Jan 2025) EllapsedTime: 7.0 seconds RetCode: 0 Status: OK PackageFile: widgetTools_1.85.0.tar.gz PackageFileSize: 227.3 KiB