Package: tximport Version: 1.35.0 Command: /home/rapidbuild/bbs-3.21-bioc-rapid/R/bin/R CMD INSTALL tximport StartedAt: 2025-02-12 06:06:02 -0500 (Wed, 12 Feb 2025) EndedAt: 2025-02-12 06:06:04 -0500 (Wed, 12 Feb 2025) EllapsedTime: 2.2 seconds RetCode: 0 Status: OK