Package: tximport Version: 1.35.0 Command: /home/rapidbuild/bbs-3.21-bioc-rapid/R/bin/R CMD check --install=check:tximport.install-out.txt --library=/home/rapidbuild/bbs-3.21-bioc-rapid/R/site-library --timings tximport_1.35.0.tar.gz StartedAt: 2025-02-12 01:09:23 -0500 (Wed, 12 Feb 2025) EndedAt: 2025-02-12 01:11:58 -0500 (Wed, 12 Feb 2025) EllapsedTime: 155.2 seconds RetCode: 0 Status: OK CheckDir: tximport.Rcheck Warnings: 0