Package: tximeta Version: 1.25.2 Command: /home/rapidbuild/bbs-3.21-bioc-rapid/R/bin/R CMD check --install=check:tximeta.install-out.txt --library=/home/rapidbuild/bbs-3.21-bioc-rapid/R/site-library --timings tximeta_1.25.2.tar.gz StartedAt: 2025-02-07 03:47:38 -0500 (Fri, 07 Feb 2025) EndedAt: 2025-02-07 03:54:20 -0500 (Fri, 07 Feb 2025) EllapsedTime: 401.8 seconds RetCode: 0 Status: OK CheckDir: tximeta.Rcheck Warnings: 0