Package: tximeta Version: 1.25.2 Command: /home/rapidbuild/bbs-3.21-bioc-rapid/R/bin/R CMD build --keep-empty-dirs --no-resave-data tximeta StartedAt: 2025-02-07 01:42:17 -0500 (Fri, 07 Feb 2025) EndedAt: 2025-02-07 01:43:45 -0500 (Fri, 07 Feb 2025) EllapsedTime: 88.3 seconds RetCode: 0 Status: OK PackageFile: tximeta_1.25.2.tar.gz PackageFileSize: 1.332 MiB