Package: tximeta Version: 1.25.2 Maintainer: Michael Love MaintainerEmail: michaelisaiahlove at gmail.com git_url: https://git.bioconductor.org/packages/tximeta git_branch: devel git_last_commit: 774b1cf git_last_commit_date: 2025-01-30 12:33:21 -0500 (Thu, 30 Jan 2025)