Package: txdbmaker Version: 1.3.1 Command: /home/rapidbuild/bbs-3.21-bioc-rapid/R/bin/R CMD build --keep-empty-dirs --no-resave-data txdbmaker StartedAt: 2025-01-31 07:45:57 -0500 (Fri, 31 Jan 2025) EndedAt: 2025-01-31 07:47:14 -0500 (Fri, 31 Jan 2025) EllapsedTime: 77.3 seconds RetCode: 0 Status: OK PackageFile: txdbmaker_1.3.1.tar.gz PackageFileSize: 1010 KiB