Package: tkWidgets Version: 1.85.0 Command: /home/rapidbuild/bbs-3.21-bioc-rapid/R/bin/R CMD check --install=check:tkWidgets.install-out.txt --library=/home/rapidbuild/bbs-3.21-bioc-rapid/R/site-library --timings tkWidgets_1.85.0.tar.gz StartedAt: 2025-01-31 09:34:35 -0500 (Fri, 31 Jan 2025) EndedAt: 2025-01-31 09:35:06 -0500 (Fri, 31 Jan 2025) EllapsedTime: 31.3 seconds RetCode: 0 Status: OK CheckDir: tkWidgets.Rcheck Warnings: 0