Package: sva Version: 3.55.0 Command: /home/rapidbuild/bbs-3.21-bioc-rapid/R/bin/R CMD check --install=check:sva.install-out.txt --library=/home/rapidbuild/bbs-3.21-bioc-rapid/R/site-library --timings sva_3.55.0.tar.gz StartedAt: 2025-02-07 03:43:40 -0500 (Fri, 07 Feb 2025) EndedAt: 2025-02-07 03:47:38 -0500 (Fri, 07 Feb 2025) EllapsedTime: 237.4 seconds RetCode: 0 Status: OK CheckDir: sva.Rcheck Warnings: 0