Package: sva Version: 3.55.0 Command: /home/rapidbuild/bbs-3.21-bioc-rapid/R/bin/R CMD build --keep-empty-dirs --no-resave-data sva StartedAt: 2025-02-07 01:41:27 -0500 (Fri, 07 Feb 2025) EndedAt: 2025-02-07 01:42:11 -0500 (Fri, 07 Feb 2025) EllapsedTime: 43.9 seconds RetCode: 0 Status: OK PackageFile: sva_3.55.0.tar.gz PackageFileSize: 442.7 KiB