############################################################################## ############################################################################## ### ### Running command: ### ### /home/rapidbuild/bbs-3.21-bioc-rapid/R/bin/R CMD build --keep-empty-dirs --no-resave-data sva ### ############################################################################## ############################################################################## * checking for file ‘sva/DESCRIPTION’ ... OK * preparing ‘sva’: * checking DESCRIPTION meta-information ... OK * cleaning src * installing the package to build vignettes ----------------------------------- * installing *source* package ‘sva’ ... ** this is package ‘sva’ version ‘3.55.0’ ** using staged installation ** libs using C compiler: ‘gcc (Ubuntu 13.3.0-6ubuntu2~24.04) 13.3.0’ gcc -I"/home/rapidbuild/bbs-3.21-bioc-rapid/R/include" -DNDEBUG -I/usr/local/include -fpic -g -O2 -Wall -Werror=format-security -c sva.c -o sva.o sva.c:27:34: warning: missing braces around initializer [-Wmissing-braces] 27 | R_CallMethodDef callMethods[] = { | ^ gcc -shared -L/usr/local/lib -o sva.so sva.o /usr/bin/ld: final link failed: No space left on device collect2: error: ld returned 1 exit status make: *** [/home/rapidbuild/bbs-3.21-bioc-rapid/R/share/make/shlib.mk:10: sva.so] Error 1 ERROR: compilation failed for package ‘sva’ * removing ‘/tmp/RtmplceL9v/Rinst2cf83e73b9ff22/sva’ ----------------------------------- ERROR: package installation failed