Package: supraHex Version: 1.45.1 Command: /home/rapidbuild/bbs-3.21-bioc-rapid/R/bin/R CMD INSTALL supraHex StartedAt: 2025-02-07 00:15:25 -0500 (Fri, 07 Feb 2025) EndedAt: 2025-02-07 00:15:33 -0500 (Fri, 07 Feb 2025) EllapsedTime: 7.4 seconds RetCode: 0 Status: OK