Package: sparseMatrixStats Version: 1.19.0 Command: /home/rapidbuild/bbs-3.21-bioc-rapid/R/bin/R CMD build --keep-empty-dirs --no-resave-data sparseMatrixStats StartedAt: 2025-02-07 01:40:06 -0500 (Fri, 07 Feb 2025) EndedAt: 2025-02-07 01:40:33 -0500 (Fri, 07 Feb 2025) EllapsedTime: 27.0 seconds RetCode: 0 Status: OK PackageFile: sparseMatrixStats_1.19.0.tar.gz PackageFileSize: 687.7 KiB