Package: snpStats Version: 1.57.0 Command: /home/rapidbuild/bbs-3.21-bioc-rapid/R/bin/R CMD INSTALL snpStats StartedAt: 2025-01-31 06:10:19 -0500 (Fri, 31 Jan 2025) EndedAt: 2025-01-31 06:10:36 -0500 (Fri, 31 Jan 2025) EllapsedTime: 17.0 seconds RetCode: 0 Status: OK