Package: snpStats Version: 1.57.0 Command: /home/rapidbuild/bbs-3.21-bioc-rapid/R/bin/R CMD check --install=check:snpStats.install-out.txt --library=/home/rapidbuild/bbs-3.21-bioc-rapid/R/site-library --timings snpStats_1.57.0.tar.gz StartedAt: 2024-12-07 15:05:03 -0500 (Sat, 07 Dec 2024) EndedAt: 2024-12-07 15:06:32 -0500 (Sat, 07 Dec 2024) EllapsedTime: 89.0 seconds RetCode: 0 Status: WARNINGS CheckDir: snpStats.Rcheck Warnings: 2