Package: snpStats Version: 1.57.0 Command: /home/rapidbuild/bbs-3.21-bioc-rapid/R/bin/R CMD build --keep-empty-dirs --no-resave-data snpStats StartedAt: 2025-02-07 01:39:39 -0500 (Fri, 07 Feb 2025) EndedAt: 2025-02-07 01:40:05 -0500 (Fri, 07 Feb 2025) EllapsedTime: 26.3 seconds RetCode: 1 Status: ERROR PackageFile: None PackageFileSize: NA