Package: snifter Version: 1.17.0 Command: /home/rapidbuild/bbs-3.21-bioc-rapid/R/bin/R CMD check --install=check:snifter.install-out.txt --library=/home/rapidbuild/bbs-3.21-bioc-rapid/R/site-library --timings snifter_1.17.0.tar.gz StartedAt: 2025-01-31 09:30:12 -0500 (Fri, 31 Jan 2025) EndedAt: 2025-01-31 09:31:48 -0500 (Fri, 31 Jan 2025) EllapsedTime: 96.3 seconds RetCode: 0 Status: OK CheckDir: snifter.Rcheck Warnings: 0