Package: snifter Version: 1.17.0 Command: /home/rapidbuild/bbs-3.21-bioc-rapid/R/bin/R CMD build --keep-empty-dirs --no-resave-data snifter StartedAt: 2025-01-31 07:43:16 -0500 (Fri, 31 Jan 2025) EndedAt: 2025-01-31 07:43:44 -0500 (Fri, 31 Jan 2025) EllapsedTime: 28.0 seconds RetCode: 0 Status: OK PackageFile: snifter_1.17.0.tar.gz PackageFileSize: 716.4 KiB