Package: sesame Version: 1.25.3 Command: /home/rapidbuild/bbs-3.21-bioc-rapid/R/bin/R CMD build --keep-empty-dirs --no-resave-data sesame StartedAt: 2025-02-07 01:37:31 -0500 (Fri, 07 Feb 2025) EndedAt: 2025-02-07 01:41:21 -0500 (Fri, 07 Feb 2025) EllapsedTime: 229.1 seconds RetCode: 0 Status: OK PackageFile: sesame_1.25.3.tar.gz PackageFileSize: 16.09 MiB