Package: seqLogo Version: 1.73.0 Command: /home/rapidbuild/bbs-3.21-bioc-rapid/R/bin/R CMD INSTALL seqLogo StartedAt: 2025-02-07 00:11:24 -0500 (Fri, 07 Feb 2025) EndedAt: 2025-02-07 00:11:28 -0500 (Fri, 07 Feb 2025) EllapsedTime: 4.0 seconds RetCode: 0 Status: OK