Package: seqLogo Version: 1.73.0 Command: /home/rapidbuild/bbs-3.21-bioc-rapid/R/bin/R CMD check --install=check:seqLogo.install-out.txt --library=/home/rapidbuild/bbs-3.21-bioc-rapid/R/site-library --timings seqLogo_1.73.0.tar.gz StartedAt: 2025-02-07 03:31:53 -0500 (Fri, 07 Feb 2025) EndedAt: 2025-02-07 03:32:24 -0500 (Fri, 07 Feb 2025) EllapsedTime: 31.0 seconds RetCode: 0 Status: OK CheckDir: seqLogo.Rcheck Warnings: 0