Package: seqLogo Version: 1.73.0 Command: /home/rapidbuild/bbs-3.21-bioc-rapid/R/bin/R CMD build --keep-empty-dirs --no-resave-data seqLogo StartedAt: 2025-02-01 13:30:37 -0500 (Sat, 01 Feb 2025) EndedAt: 2025-02-01 13:30:42 -0500 (Sat, 01 Feb 2025) EllapsedTime: 5.3 seconds RetCode: 0 Status: OK PackageFile: seqLogo_1.73.0.tar.gz PackageFileSize: 919 KiB