Package: scuttle Version: 1.17.0 Command: /home/rapidbuild/bbs-3.21-bioc-rapid/R/bin/R CMD INSTALL scuttle StartedAt: 2025-02-07 00:19:59 -0500 (Fri, 07 Feb 2025) EndedAt: 2025-02-07 00:21:03 -0500 (Fri, 07 Feb 2025) EllapsedTime: 64.1 seconds RetCode: 0 Status: OK