Package: scuttle Version: 1.17.0 Command: /home/rapidbuild/bbs-3.21-bioc-rapid/R/bin/R CMD check --install=check:scuttle.install-out.txt --library=/home/rapidbuild/bbs-3.21-bioc-rapid/R/site-library --timings scuttle_1.17.0.tar.gz StartedAt: 2025-02-07 03:31:39 -0500 (Fri, 07 Feb 2025) EndedAt: 2025-02-07 03:39:13 -0500 (Fri, 07 Feb 2025) EllapsedTime: 454.5 seconds RetCode: 0 Status: OK CheckDir: scuttle.Rcheck Warnings: 0