Package: scuttle Version: 1.17.0 Command: /home/rapidbuild/bbs-3.21-bioc-rapid/R/bin/R CMD build --keep-empty-dirs --no-resave-data scuttle StartedAt: 2025-01-31 07:40:00 -0500 (Fri, 31 Jan 2025) EndedAt: 2025-01-31 07:42:40 -0500 (Fri, 31 Jan 2025) EllapsedTime: 160.4 seconds RetCode: 0 Status: OK PackageFile: scuttle_1.17.0.tar.gz PackageFileSize: 1007 KiB