Package: scran Version: 1.35.0 Command: /home/rapidbuild/bbs-3.21-bioc-rapid/R/bin/R CMD check --install=check:scran.install-out.txt --library=/home/rapidbuild/bbs-3.21-bioc-rapid/R/site-library --timings scran_1.35.0.tar.gz StartedAt: 2025-01-31 09:20:36 -0500 (Fri, 31 Jan 2025) EndedAt: 2025-01-31 09:30:48 -0500 (Fri, 31 Jan 2025) EllapsedTime: 612.0 seconds RetCode: 0 Status: WARNINGS CheckDir: scran.Rcheck Warnings: 1