Package: scater Version: 1.35.1 Command: /home/rapidbuild/bbs-3.21-bioc-rapid/R/bin/R CMD INSTALL scater StartedAt: 2025-02-01 12:20:28 -0500 (Sat, 01 Feb 2025) EndedAt: 2025-02-01 12:20:52 -0500 (Sat, 01 Feb 2025) EllapsedTime: 24.6 seconds RetCode: 0 Status: OK