Package: scater Version: 1.35.1 Command: /home/rapidbuild/bbs-3.21-bioc-rapid/R/bin/R CMD build --keep-empty-dirs --no-resave-data scater StartedAt: 2025-02-01 13:26:17 -0500 (Sat, 01 Feb 2025) EndedAt: 2025-02-01 13:28:08 -0500 (Sat, 01 Feb 2025) EllapsedTime: 110.3 seconds RetCode: 0 Status: OK PackageFile: scater_1.35.1.tar.gz PackageFileSize: 4.421 MiB